BEGIN:VCALENDAR
VERSION:2.0
PRODID:icalendar-ruby
CALSCALE:GREGORIAN
METHOD:PUBLISH
BEGIN:VEVENT
DTSTAMP:20260419T150347Z
UID:12-299014@newphiladelphia.tithelysetup2.com
DTSTART:20260901T213000Z
DTEND:20260901T223000Z
CLASS:PUBLIC
CREATED:20260226T133600
DESCRIPTION:
LAST-MODIFIED:20260226T133600
LOCATION:
SUMMARY:Supper Table
URL;VALUE=URI:https://newphiladelphia.tithelysetup2.com/events/supper-table
 /2026-09-01
ATTACH;FILENAME=supper-table.jpeg;FMTTYPE=image/jpeg:https://dq5pwpg1q8ru0.
 cloudfront.net/2026/02/26/18/36/00/215833ad-f449-41fa-8ea4-4a6ee619fb54/su
 pper-table.jpeg
END:VEVENT
END:VCALENDAR
